BEGIN:VCALENDAR
VERSION:2.0
PRODID:-//ChamberMaster//Event Calendar 2.0//EN
METHOD:PUBLISH
X-PUBLISHED-TTL:P3D
REFRESH-INTERVAL:P3D
CALSCALE:GREGORIAN
BEGIN:VEVENT
DTSTART:20201022T170000Z
DTEND:20201022T174500Z
X-MICROSOFT-CDO-ALLDAYEVENT:FALSE
SUMMARY:Aberdean Consulting LLC Presents: Successful Project Task Management - Meet Microsoft Planner
DESCRIPTION:The webinar will take a deeper look at the Microsoft Planner App.\n\nDo you want an easy way to capture\, update\, and track the status of ALL project tasks? Then this webinar is for you.\n\n \n\nLearn how to: \n\n	Access the app\n	Navigate in the app\n	Add\, manage\, and assign tasks\n\n\nRegistration:  https://www.aberdean.com/events-2/
X-ALT-DESC;FMTTYPE=text/html:<span style="color:#555555\;"><span style="font-family:helvetica\,sans-serif\;"><span style="font-size:11.5pt\;">The webinar will take a deeper look at the Microsoft Planner App.</span></span></span><br />\n<span style="color:#555555\;"><span style="font-family:helvetica\,sans-serif\;"><span style="font-size:11.5pt\;">Do you want an easy way to capture\, update\, and track the status of ALL project tasks? Then this webinar is for you.</span></span></span><br />\n&nbsp\;<br />\n<strong><span style="color:#555555\;"><span style="font-family:helvetica\,sans-serif\;"><span style="font-size:11.5pt\;">Learn how to: </span></span></span></strong>\n<ul>\n	<li style="margin-bottom:0in\;line-height:normal\;vertical-align:middle\;"><span style="color:#555555\;"><span style="font-family:helvetica\,sans-serif\;"><span style="font-size:11.5pt\;">Access the app</span></span></span></li>\n	<li style="margin-bottom:0in\;line-height:normal\;vertical-align:middle\;"><span style="color:#555555\;"><span style="font-family:helvetica\,sans-serif\;"><span style="font-size:11.5pt\;">Navigate in the app</span></span></span></li>\n	<li style="margin-bottom:0in\;line-height:normal\;vertical-align:middle\;"><span style="color:#555555\;"><span style="font-family:helvetica\,sans-serif\;"><span style="font-size:11.5pt\;">Add\, manage\, and assign tasks</span></span></span></li>\n</ul>\n\n<div style="margin-bottom:0in\;line-height:normal\;vertical-align:middle\;"><span style="color:#555555\;"><span style="font-family:helvetica\,sans-serif\;"><span style="font-size:11.5pt\;">Registration:&nbsp\;&nbsp\;</span></span></span><a href="https://www.aberdean.com/events-2/"><span style="font-size:12.0pt\;">https://www.aberdean.com/events-2/</span></a><br />\n&nbsp\;</div>\n
LOCATION:Via Webinar: https://www.aberdean.com/events-2/
UID:e.1586.2739
SEQUENCE:3
DTSTAMP:20260424T141213Z
URL:https://business.middletonchamber.com/events/details/aberdean-consulting-llc-presents-successful-project-task-management-meet-microsoft-planner-2739
END:VEVENT

END:VCALENDAR
