BEGIN:VCALENDAR
VERSION:2.0
PRODID:-//ChamberMaster//Event Calendar 2.0//EN
METHOD:PUBLISH
X-PUBLISHED-TTL:P3D
REFRESH-INTERVAL:P3D
CALSCALE:GREGORIAN
BEGIN:VEVENT
DTSTART:20200924T170000Z
DTEND:20200924T174500Z
X-MICROSOFT-CDO-ALLDAYEVENT:FALSE
SUMMARY:Aberdean Consulting Presents: The Power of Microsoft To Do App
DESCRIPTION:Manage Your Tasks Anywhere - the Power of the Microsoft To Do App\n\n \n\nThe webinar will be an in depth look at the Microsoft To Do App.\n\nWish you could view and mange ALL your tasks anywhere\, anytime? Then this webinar is for you.\n\n \n\nLearn how to: \n\n	Access the app\n	Navigate in the app\n	Modify settings\n	Add and manage tasks and lists\n\n \n\nEVENT TIMES\n\nThursday\, September 24\, 2020\n\n12:00 to 12:45 PM\n\n \n\nhttps://www.aberdean.com/events-2/
X-ALT-DESC;FMTTYPE=text/html:<strong><span style="color:#111111\;"><span style="font-family:helvetica\,sans-serif\;"><span style="font-size:12.0pt\;">Manage Your Tasks Anywhere - the Power of the Microsoft To Do App</span></span></span></strong><br />\n&nbsp\;<br />\n<span style="color:#555555\;"><span style="font-family:helvetica\,sans-serif\;"><span style="font-size:11.5pt\;">The webinar will be an in depth look at the Microsoft To Do App.</span></span></span><br />\n<span style="color:#555555\;"><span style="font-family:helvetica\,sans-serif\;"><span style="font-size:11.5pt\;">Wish you could view and mange ALL your tasks anywhere\, anytime? Then this webinar is for you.</span></span></span><br />\n&nbsp\;<br />\n<strong><span style="color:#555555\;"><span style="font-family:helvetica\,sans-serif\;"><span style="font-size:11.5pt\;">Learn how to: </span></span></span></strong>\n<ul>\n	<li style="margin-top:0in\;margin-right:0in\;margin-bottom:0in\;vertical-align:middle\;"><span style="color:#555555\;"><span style="font-family:helvetica\,sans-serif\;"><span style="font-size:11.5pt\;">Access the app</span></span></span></li>\n	<li style="margin-top:0in\;margin-right:0in\;margin-bottom:0in\;vertical-align:middle\;"><span style="color:#555555\;"><span style="font-family:helvetica\,sans-serif\;"><span style="font-size:11.5pt\;">Navigate in the app</span></span></span></li>\n	<li style="margin-top:0in\;margin-right:0in\;margin-bottom:0in\;vertical-align:middle\;"><span style="color:#555555\;"><span style="font-family:helvetica\,sans-serif\;"><span style="font-size:11.5pt\;">Modify settings</span></span></span></li>\n	<li style="margin-top:0in\;margin-right:0in\;margin-bottom:0in\;vertical-align:middle\;"><span style="color:#555555\;"><span style="font-family:helvetica\,sans-serif\;"><span style="font-size:11.5pt\;">Add and manage tasks and lists</span></span></span></li>\n</ul>\n&nbsp\;<br />\n<strong><span style="font-size:14.0pt\;">EVENT TIMES</span></strong><br />\n<strong><span style="font-size:12.0pt\;">Thursday\, </span></strong><strong><span style="color:black\;"><span style="font-size:12.0pt\;">September 24</span></span></strong><strong><span style="font-size:12.0pt\;">\, 2020</span></strong><br />\n<span style="font-size:12.0pt\;">12:00 to 12:45 PM</span><br />\n&nbsp\;<br />\n<a href="https://www.aberdean.com/events-2/"><span style="font-size:12.0pt\;">https://www.aberdean.com/events-2/</span></a>
LOCATION:Via Webinar: https://www.aberdean.com/events-2/
UID:e.1586.2740
SEQUENCE:3
DTSTAMP:20260424T124148Z
URL:https://business.middletonchamber.com/events/details/aberdean-consulting-presents-the-power-of-microsoft-to-do-app-2740
END:VEVENT

END:VCALENDAR
