BEGIN:VCALENDAR
VERSION:2.0
PRODID:-//ChamberMaster//Event Calendar 2.0//EN
METHOD:PUBLISH
X-PUBLISHED-TTL:P3D
REFRESH-INTERVAL:P3D
CALSCALE:GREGORIAN
BEGIN:VEVENT
DTSTART:20200909T150000Z
DTEND:20200909T163000Z
X-MICROSOFT-CDO-ALLDAYEVENT:FALSE
SUMMARY:ActionCOACH Presents: 6 Keys to a Winning Business
DESCRIPTION:Join us to unlock effective strategies to go from chaos to making big money in your business and working less hours. \n\nWhat you will learn in this workshop: \n\n	How to work ON your business instead of IN your business \n	How to turn your advertising and marketing into an investment instead of an expense \n	How to leverage your time to maximize efficiency and profits \n	How to recruit\, motivate\, educate\, and retain exceptional employees \n	You'll learn all of these things and more. Don't you owe it to yourself to invest some of your time learning how your business can reach its full potential? \n\n\nMore Information/Registration:  www.actioncoachwi.com/6-keys-am
X-ALT-DESC;FMTTYPE=text/html:<span style="font-size:14px\;"><span style="font-family:arial\;"><span style="color:black\;">Join us to unlock effective strategies to go from chaos to making big money in your business and working less hours.&nbsp\;</span><br />\n<span style="color:black\;">What you will learn in this workshop:&nbsp\;</span></span></span>\n<ul>\n	<li style="color:black\;background:white\;"><span style="font-size:14px\;"><span style="font-family:arial\;">How to work ON your business instead of IN your business&nbsp\;</span></span></li>\n	<li style="color:black\;background:white\;"><span style="font-size:14px\;"><span style="font-family:arial\;"><span style="font-size:14px\;"><span style="font-family:arial\;">How to turn your advertising and marketing into an investment instead of an expense&nbsp\;</span></span></span></span></li>\n	<li style="color:black\;background:white\;"><span style="font-size:14px\;"><span style="font-family:arial\;"><span style="font-size:14px\;"><span style="font-family:arial\;"><span style="font-size:14px\;"><span style="font-family:arial\;">How to leverage your time to maximize efficiency and profits&nbsp\;</span></span></span></span></span></span></li>\n	<li style="color:black\;background:white\;"><span style="font-size:14px\;"><span style="font-family:arial\;"><span style="font-size:14px\;"><span style="font-family:arial\;"><span style="font-size:14px\;"><span style="font-family:arial\;"><span style="font-size:14px\;"><span style="font-family:arial\;">How to recruit\, motivate\, educate\, and retain exceptional employees&nbsp\;</span></span></span></span></span></span></span></span></li>\n	<li style="color:black\;background:white\;"><span style="font-size:14px\;"><span style="font-family:arial\;"><span style="font-size:14px\;"><span style="font-family:arial\;"><span style="font-size:14px\;"><span style="font-family:arial\;"><span style="font-size:14px\;"><span style="font-family:arial\;"><span style="font-size:14px\;"><span style="font-family:arial\;">You&rsquo\;ll learn all of these things and more. Don&rsquo\;t you owe it to yourself to invest some of your time learning how your business can reach its full potential?&nbsp\;</span></span></span></span></span></span></span></span></span></span></li>\n</ul>\n\n<div style="color:black\;background:white\;"><span style="font-size:14px\;"><span style="font-family:arial\;"><span style="font-size:14px\;"><span style="font-family:arial\;"><span style="font-size:14px\;"><span style="font-family:arial\;"><span style="font-size:14px\;"><span style="font-family:arial\;"><span style="font-size:14px\;"><span style="font-family:arial\;">More Information/Registration:&nbsp\;&nbsp\;</span></span></span></span></span></span></span></span></span></span><span style="color:black\;"><span style="font-family:century gothic\,sans-serif\;"><span style="font-size:12.0pt\;"><a href="http://www.actioncoachwi.com/6-keys-am" target="_blank">www.actioncoachwi.com/6-keys-am</a></span></span></span><br />\n&nbsp\;</div>\n
LOCATION:Via Webinar: www.actioncoachwi.com/6-keys-am
UID:e.1586.2742
SEQUENCE:3
DTSTAMP:20260424T124036Z
URL:https://business.middletonchamber.com/events/details/actioncoach-presents-6-keys-to-a-winning-business-2742
END:VEVENT

END:VCALENDAR
