BEGIN:VCALENDAR
VERSION:2.0
PRODID:-//ChamberMaster//Event Calendar 2.0//EN
METHOD:PUBLISH
X-PUBLISHED-TTL:P3D
REFRESH-INTERVAL:P3D
CALSCALE:GREGORIAN
BEGIN:VEVENT
DTSTART:20200910T150000Z
DTEND:20200910T160000Z
X-MICROSOFT-CDO-ALLDAYEVENT:FALSE
SUMMARY:ActionCOACH Presents: The Desire to Lead with the Better Business Bureau
DESCRIPTION:In this discussion\, we will redefine what leadership is to you\, and we'll cover 4 components of leadership. Those components are the:\n\n\n\n- Desire to dream\n\n- Desire to define where you are in life\n\n- Desire to be part of something great\n\n- Desire to establish values\n\n\n\nLeadership\, mine\, yours & the people we interact with demands fortitude. It demands that fortitude be turned in to desire. By taking the 4 skills\, Bill Vinson\, Executive Business Coach at ActionCOACH Wisconsin\, will speak about how you can make an impact not only in your life\, but the lives of those you work with.\n\n \n\nhttps://us02web.zoom.us/meeting/register/tZYpd--pqTMjHdx9wAfF44Yc1S2mTxv3egsS
X-ALT-DESC;FMTTYPE=text/html:<div style="color:black\;background:white\;"><span style="font-size:14px\;"><span style="font-family:arial\;"><span style="background:white\;"><span style="color:#232333\;">In this discussion\, we will redefine what leadership is to you\, and we&rsquo\;ll cover 4 components of leadership. Those components are the:</span></span><br style="box-sizing:border-box\;" />\n<br style="box-sizing:border-box\;" />\n<span style="color:#232333\;"><span style="background:white\;">- Desire to dream</span><br style="box-sizing:border-box\;" />\n<span style="background:white\;">- Desire to define where you are in life</span><br style="box-sizing:border-box\;" />\n<span style="background:white\;">- Desire to be part of something great</span><br style="box-sizing:border-box\;" />\n<span style="background:white\;">- Desire to establish values</span><br style="box-sizing:border-box\;" />\n<br style="box-sizing:border-box\;" />\n<span style="background:white\;">Leadership\, mine\, yours &amp\; the people we interact with demands fortitude. It demands that fortitude be turned in to desire. By taking the 4 skills\, Bill Vinson\, Executive Business Coach at ActionCOACH Wisconsin\, will speak about how you can make an impact not only in your life\, but the lives of those you work with.</span></span><br />\n&nbsp\;<br />\n<span style="color:#201F1E\;"><a data-auth="NotApplicable" href="https://us02web.zoom.us/meeting/register/tZYpd--pqTMjHdx9wAfF44Yc1S2mTxv3egsS" target="_blank">https://us02web.zoom.us/meeting/register/tZYpd--pqTMjHdx9wAfF44Yc1S2mTxv3egsS</a></span></span></span><br />\n&nbsp\;</div>\n
LOCATION:Via Webinar: https://us02web.zoom.us/meeting/register/tZYpd--pqTMjHdx9wAfF44Yc1S2mTxv3egsS
UID:e.1586.2745
SEQUENCE:3
DTSTAMP:20260424T124300Z
URL:https://business.middletonchamber.com/events/details/actioncoach-presents-the-desire-to-lead-with-the-better-business-bureau-2745
END:VEVENT

END:VCALENDAR
